BEGIN:VCALENDAR
PRODID:-//Mozilla.org/NONSGML Mozilla Calendar V1.1//EN
VERSION:2.0
BEGIN:VEVENT
UID:6013c7a1-2c80-4d1f-a784-ee8c4457db32
DTSTAMP:20260625T174500
DTSTART:20260625T174500
DTEND:20260625T210000
LOCATION:Provinciehuis Overijssel, Luttenbergstraat 2 in Zwolle
DESCRIPTION:Op donderdag 25 juni is er een bijeenkomst over bloemenweides op het provinciehuis in Zwolle.
SUMMARY:Bijeenkomst over Bloemenweides
PRIORITY:3
END:VEVENT
END:VCALENDAR
